BEGIN:VCALENDAR
VERSION:2.0
PRODID:-//Library Market//iCal Export//EN
BEGIN:VEVENT
SUMMARY:Sewing Sisters
UID:40943
DTSTAMP:20260425T040400Z
DTSTART:20260424T141500Z
DTEND:20260424T171500Z
LOCATION:330 East Criser Road, Front Royal, VA 22630, United States
ROOM: Baxter-Bowling Conference Room
DESCRIPTION:Private sewing group
URL:https://samuelslibrary.librarymarket.com/event/sewing-sisters-40943
END:VEVENT
END:VCALENDAR
