BEGIN:VCALENDAR
VERSION:2.0
PRODID:-//Library Market//iCal Export//EN
BEGIN:VEVENT
SUMMARY:DARS
UID:40939
DTSTAMP:20260424T100000Z
DTSTART:20260423T193000Z
DTEND:20260423T194500Z
LOCATION:330 East Criser Road, Front Royal, VA 22630, United States
ROOM: Lou Benson &amp; Naomi Salus Conference Room
DESCRIPTION:
URL:https://samuelslibrary.librarymarket.com/event/dars-40939
END:VEVENT
END:VCALENDAR
