BEGIN:VCALENDAR
VERSION:2.0
PRODID:-//Library Market//iCal Export//EN
BEGIN:VEVENT
SUMMARY:study
UID:40936
DTSTAMP:20260424T141200Z
DTSTART:20260427T150000Z
DTEND:20260427T170000Z
LOCATION:330 East Criser Road, Front Royal, VA 22630, United States
ROOM: Harding Individual Study Room
DESCRIPTION:
URL:https://samuelslibrary.librarymarket.com/event/study-40936
END:VEVENT
END:VCALENDAR
