BEGIN:VCALENDAR
VERSION:2.0
PRODID:-//Library Market//iCal Export//EN
BEGIN:VEVENT
SUMMARY:Ideas Meeting
UID:40917
DTSTAMP:20260422T202700Z
DTSTART:20260422T180000Z
DTEND:20260422T190000Z
LOCATION:330 East Criser Road, Front Royal, VA 22630, United States
ROOM: Lou Benson &amp; Naomi Salus Conference Room
DESCRIPTION:
URL:https://samuelslibrary.librarymarket.com/event/ideas-meeting-40917
END:VEVENT
END:VCALENDAR
