BEGIN:VCALENDAR
VERSION:2.0
PRODID:-//Library Market//iCal Export//EN
BEGIN:VEVENT
SUMMARY:tutoring
UID:40912
DTSTAMP:20260424T001500Z
DTSTART:20260424T193000Z
DTEND:20260424T203000Z
LOCATION:330 East Criser Road, Front Royal, VA 22630, United States
ROOM: Baxter-Bowling Conference Room
DESCRIPTION:
URL:https://samuelslibrary.librarymarket.com/event/tutoring-40912
END:VEVENT
END:VCALENDAR
