BEGIN:VCALENDAR
VERSION:2.0
PRODID:-//Library Market//iCal Export//EN
BEGIN:VEVENT
SUMMARY:VDSS Staff Meeting
UID:40902
DTSTAMP:20260424T022400Z
DTSTART:20260518T140000Z
DTEND:20260518T160000Z
LOCATION:330 East Criser Road, Front Royal, VA 22630, United States
ROOM: White Meeting Room B
DESCRIPTION:State Government
URL:https://samuelslibrary.librarymarket.com/event/vdss-staff-meeting-4090
 2
END:VEVENT
END:VCALENDAR
