BEGIN:VCALENDAR
VERSION:2.0
PRODID:-//Library Market//iCal Export//EN
BEGIN:VEVENT
SUMMARY:NAACP Meeting
UID:40895
DTSTAMP:20260424T122100Z
DTSTART:20260618T170000Z
DTEND:20260618T190000Z
LOCATION:330 East Criser Road, Front Royal, VA 22630, United States
ROOM: White Meeting Room B
DESCRIPTION:Events &amp; Planning Committee Meeting
URL:https://samuelslibrary.librarymarket.com/event/naacp-meeting-40895
END:VEVENT
END:VCALENDAR
