BEGIN:VCALENDAR
VERSION:2.0
PRODID:-//Library Market//iCal Export//EN
BEGIN:VEVENT
SUMMARY:NAACP Meeting
UID:40893
DTSTAMP:20260425T113400Z
DTSTART:20260604T170000Z
DTEND:20260604T190000Z
LOCATION:330 East Criser Road, Front Royal, VA 22630, United States
ROOM: Lou Benson &amp; Naomi Salus Conference Room
DESCRIPTION:Events &amp; Planning Committee Meeting
URL:https://samuelslibrary.librarymarket.com/event/naacp-meeting-40893
END:VEVENT
END:VCALENDAR
