BEGIN:VCALENDAR
VERSION:2.0
PRODID:-//Library Market//iCal Export//EN
BEGIN:VEVENT
SUMMARY:Mercy Ships
UID:40886
DTSTAMP:20260425T185700Z
DTSTART:20260507T140000Z
DTEND:20260507T170000Z
LOCATION:330 East Criser Road, Front Royal, VA 22630, United States
ROOM: Baxter-Bowling Conference Room
DESCRIPTION:The Direct Medical Services team from Mercy Ships is planning 
 a retreat to focus on the programs Service and Design Strategy.
URL:https://samuelslibrary.librarymarket.com/event/mercy-ships-40886
END:VEVENT
END:VCALENDAR
