BEGIN:VCALENDAR
VERSION:2.0
PRODID:-//Library Market//iCal Export//EN
BEGIN:VEVENT
SUMMARY:Bright Minds Reading Hour
UID:40881
DTSTAMP:20260421T192400Z
DTSTART:20260508T203000Z
DTEND:20260508T213000Z
LOCATION:Melissa Ichiuji Studio Gallery, 223 East Main Street, Front Royal
 , VA 22630, United States
ROOM: Bright Minds Reading Hour
DESCRIPTION:Come Hear Stories About Picasso, Matisse, Chagall, and more! G
 o on an art walk in the gallery and enjoy a snack!
URL:https://samuelslibrary.librarymarket.com/event/bright-minds-reading-ho
 ur-40881
END:VEVENT
END:VCALENDAR
