BEGIN:VCALENDAR
VERSION:2.0
PRODID:-//Library Market//iCal Export//EN
BEGIN:VEVENT
SUMMARY:Study
UID:40877
DTSTAMP:20260421T103900Z
DTSTART:20260421T140000Z
DTEND:20260421T150000Z
LOCATION:330 East Criser Road, Front Royal, VA 22630, United States
ROOM: Harding Individual Study Room
DESCRIPTION:
URL:https://samuelslibrary.librarymarket.com/event/study-40877
END:VEVENT
END:VCALENDAR
