BEGIN:VCALENDAR
VERSION:2.0
PRODID:-//Library Market//iCal Export//EN
BEGIN:VEVENT
SUMMARY:Academic Language Therapy
UID:40873
DTSTAMP:20260421T135600Z
DTSTART:20260422T183000Z
DTEND:20260422T200000Z
LOCATION:330 East Criser Road, Front Royal, VA 22630, United States
ROOM: Baxter-Bowling Conference Room
DESCRIPTION:
URL:https://samuelslibrary.librarymarket.com/event/academic-language-thera
 py-40873
END:VEVENT
END:VCALENDAR
