BEGIN:VCALENDAR
VERSION:2.0
PRODID:-//Library Market//iCal Export//EN
BEGIN:VEVENT
SUMMARY:Kevin Taylor
UID:40872
DTSTAMP:20260421T103900Z
DTSTART:20260420T190000Z
DTEND:20260420T210000Z
LOCATION:330 East Criser Road, Front Royal, VA 22630, United States
ROOM: Harding Individual Study Room
DESCRIPTION:Study
URL:https://samuelslibrary.librarymarket.com/event/kevin-taylor-40872
END:VEVENT
END:VCALENDAR
