BEGIN:VCALENDAR
VERSION:2.0
PRODID:-//Library Market//iCal Export//EN
BEGIN:VEVENT
SUMMARY:Olson tutoring
UID:40870
DTSTAMP:20260421T103900Z
DTSTART:20260420T150000Z
DTEND:20260420T190000Z
LOCATION:330 East Criser Road, Front Royal, VA 22630, United States
ROOM: Lou Benson &amp; Naomi Salus Conference Room
DESCRIPTION:Tutoring
URL:https://samuelslibrary.librarymarket.com/event/olson-tutoring-40870
END:VEVENT
END:VCALENDAR
