BEGIN:VCALENDAR
VERSION:2.0
PRODID:-//Library Market//iCal Export//EN
BEGIN:VEVENT
SUMMARY:Oakton Springs
UID:40861
DTSTAMP:20260420T023500Z
DTSTART:20261027T200000Z
DTEND:20261027T213000Z
LOCATION:330 East Criser Road, Front Royal, VA 22630, United States
ROOM: White Meeting Room B
DESCRIPTION:TBD
URL:https://samuelslibrary.librarymarket.com/event/oakton-springs-40861
END:VEVENT
END:VCALENDAR
