BEGIN:VCALENDAR
VERSION:2.0
PRODID:-//Library Market//iCal Export//EN
BEGIN:VEVENT
SUMMARY:Dominican Laity
UID:40795
DTSTAMP:20260421T135600Z
DTSTART:20260422T224500Z
DTEND:20260422T234500Z
LOCATION:330 East Criser Road, Front Royal, VA 22630, United States
ROOM: Baxter-Bowling Conference Room
DESCRIPTION:Study
URL:https://samuelslibrary.librarymarket.com/event/dominican-laity-40795
END:VEVENT
END:VCALENDAR
