BEGIN:VCALENDAR
VERSION:2.0
PRODID:-//Library Market//iCal Export//EN
BEGIN:VEVENT
SUMMARY:Wyatt Payne Proctor
UID:40935
DTSTAMP:20260423T194300Z
DTSTART:20260502T150000Z
DTEND:20260502T170000Z
LOCATION:330 East Criser Road, Front Royal, VA 22630, United States
ROOM: Harding Individual Study Room
DESCRIPTION:
URL:https://samuelslibrary.librarymarket.com/index.php/event/wyatt-payne-p
 roctor-40935
END:VEVENT
END:VCALENDAR
