BEGIN:VCALENDAR
VERSION:2.0
PRODID:-//Library Market//iCal Export//EN
BEGIN:VEVENT
SUMMARY:Author Talk with Derick Lugo: &quot;The Unlikely Thru-Hiker&quot;
UID:40932
DTSTAMP:20260424T050500Z
DTSTART:20260603T220000Z
DTEND:20260603T233000Z
LOCATION:330 East Criser Road, Front Royal, VA 22630, United States
ROOM: White Meeting Room A
DESCRIPTION:
URL:https://samuelslibrary.librarymarket.com/index.php/event/author-progra
 m-40932
END:VEVENT
END:VCALENDAR
