BEGIN:VCALENDAR
VERSION:2.0
PRODID:-//Library Market//iCal Export//EN
BEGIN:VEVENT
SUMMARY:Interview
UID:40915
DTSTAMP:20260423T044000Z
DTSTART:20260421T200000Z
DTEND:20260421T220000Z
LOCATION:330 East Criser Road, Front Royal, VA 22630, United States
ROOM: Harding Individual Study Room
DESCRIPTION:
URL:https://samuelslibrary.librarymarket.com/index.php/event/interview-409
 15
END:VEVENT
END:VCALENDAR
