BEGIN:VCALENDAR
VERSION:2.0
PRODID:-//Library Market//iCal Export//EN
BEGIN:VEVENT
SUMMARY:Education Consult Meeting
UID:40905
DTSTAMP:20260424T024000Z
DTSTART:20260421T163000Z
DTEND:20260421T180000Z
LOCATION:330 East Criser Road, Front Royal, VA 22630, United States
ROOM: Lou Benson &amp; Naomi Salus Conference Room
DESCRIPTION:My child are I wish to use the space to have a virtual meeting
  regarding her education choices as she moves towards high school. I will 
 take her out of school and want to bring her back to school in a timely fa
 shion so thought this was close to school rather than driving home and bac
 k, cutting into her time at school.
URL:https://samuelslibrary.librarymarket.com/index.php/event/education-con
 sult-meeting-40905
END:VEVENT
END:VCALENDAR
