BEGIN:VCALENDAR
VERSION:2.0
PRODID:-//Library Market//iCal Export//EN
BEGIN:VEVENT
SUMMARY:Meeting
UID:40904
DTSTAMP:20260423T044000Z
DTSTART:20260421T143000Z
DTEND:20260421T150000Z
LOCATION:330 East Criser Road, Front Royal, VA 22630, United States
ROOM: Lou Benson &amp; Naomi Salus Conference Room
DESCRIPTION:
URL:https://samuelslibrary.librarymarket.com/index.php/event/meeting-40904
END:VEVENT
END:VCALENDAR
