BEGIN:VCALENDAR
VERSION:2.0
PRODID:-//Library Market//iCal Export//EN
BEGIN:VEVENT
SUMMARY:private appointment
UID:40896
DTSTAMP:20260423T044000Z
DTSTART:20260421T173000Z
DTEND:20260421T193000Z
LOCATION:330 East Criser Road, Front Royal, VA 22630, United States
ROOM: Harding Individual Study Room
DESCRIPTION:Appointment
URL:https://samuelslibrary.librarymarket.com/index.php/event/private-appoi
 ntment-40896
END:VEVENT
END:VCALENDAR
