BEGIN:VCALENDAR
VERSION:2.0
PRODID:-//Library Market//iCal Export//EN
BEGIN:VEVENT
SUMMARY:NAACP Meeting
UID:40892
DTSTAMP:20260425T185700Z
DTSTART:20260528T170000Z
DTEND:20260528T190000Z
LOCATION:330 East Criser Road, Front Royal, VA 22630, United States
ROOM: White Meeting Room B
DESCRIPTION:Events &amp; Planning Committee Meeting
URL:https://samuelslibrary.librarymarket.com/index.php/event/naacp-meeting
 -40892
END:VEVENT
END:VCALENDAR
