BEGIN:VCALENDAR
VERSION:2.0
PRODID:-//Library Market//iCal Export//EN
BEGIN:VEVENT
SUMMARY:MAACP meeting
UID:40891
DTSTAMP:20260424T022400Z
DTSTART:20260521T170000Z
DTEND:20260521T190000Z
LOCATION:330 East Criser Road, Front Royal, VA 22630, United States
ROOM: White Meeting Room B
DESCRIPTION:Events &amp; Planning Committee Meeting
URL:https://samuelslibrary.librarymarket.com/index.php/event/maacp-meeting
 -40891
END:VEVENT
END:VCALENDAR
