BEGIN:VCALENDAR
VERSION:2.0
PRODID:-//Library Market//iCal Export//EN
BEGIN:VEVENT
SUMMARY:Mercy Ships
UID:40884
DTSTAMP:20260424T155700Z
DTSTART:20260505T140000Z
DTEND:20260505T170000Z
LOCATION:330 East Criser Road, Front Royal, VA 22630, United States
ROOM: Baxter-Bowling Conference Room
DESCRIPTION:The Direct Medical Services team from Mercy Ships is planning 
 a retreat to focus on the programs Service and Design Strategy.
URL:https://samuelslibrary.librarymarket.com/index.php/event/mercy-ships-4
 0884
END:VEVENT
END:VCALENDAR
