BEGIN:VCALENDAR
VERSION:2.0
PRODID:-//Library Market//iCal Export//EN
BEGIN:VEVENT
SUMMARY:Access Independence Learners Permit Review
UID:40876
DTSTAMP:20260421T103900Z
DTSTART:20260422T190000Z
DTEND:20260422T200000Z
LOCATION:330 East Criser Road, Front Royal, VA 22630, United States
ROOM: Lou Benson &amp; Naomi Salus Conference Room
DESCRIPTION:
URL:https://samuelslibrary.librarymarket.com/index.php/event/access-indepe
 ndence-learners-permit-review-40876
END:VEVENT
END:VCALENDAR
