BEGIN:VCALENDAR
VERSION:2.0
PRODID:-//Library Market//iCal Export//EN
BEGIN:VEVENT
SUMMARY:Academic Language Therapy
UID:40875
DTSTAMP:20260423T044000Z
DTSTART:20260420T190000Z
DTEND:20260420T200000Z
LOCATION:330 East Criser Road, Front Royal, VA 22630, United States
ROOM: Baxter-Bowling Conference Room
DESCRIPTION:
URL:https://samuelslibrary.librarymarket.com/index.php/event/academic-lang
 uage-therapy-40875
END:VEVENT
END:VCALENDAR
