BEGIN:VCALENDAR
VERSION:2.0
PRODID:-//Library Market//iCal Export//EN
BEGIN:VEVENT
SUMMARY:Academic Language Therapy
UID:40874
DTSTAMP:20260422T105600Z
DTSTART:20260423T150000Z
DTEND:20260423T163000Z
LOCATION:330 East Criser Road, Front Royal, VA 22630, United States
ROOM: Baxter-Bowling Conference Room
DESCRIPTION:
URL:https://samuelslibrary.librarymarket.com/index.php/event/academic-lang
 uage-therapy-40874
END:VEVENT
END:VCALENDAR
