BEGIN:VCALENDAR
VERSION:2.0
PRODID:-//Library Market//iCal Export//EN
BEGIN:VEVENT
SUMMARY:Dr. Obed Hugh Ligate
UID:40865
DTSTAMP:20260423T140300Z
DTSTART:20260418T143000Z
DTEND:20260418T161500Z
LOCATION:330 East Criser Road, Front Royal, VA 22630, United States
ROOM: Harding Individual Study Room
DESCRIPTION:Self study
URL:https://samuelslibrary.librarymarket.com/index.php/event/dr-obed-hugh-
 ligate-40865
END:VEVENT
END:VCALENDAR
