BEGIN:VCALENDAR
VERSION:2.0
PRODID:-//Library Market//iCal Export//EN
BEGIN:VEVENT
SUMMARY:Fauquier County L3762
UID:40864
DTSTAMP:20260424T075800Z
DTSTART:20260428T140000Z
DTEND:20260428T170000Z
LOCATION:330 East Criser Road, Front Royal, VA 22630, United States
ROOM: Baxter-Bowling Conference Room
DESCRIPTION:Fauquier County Professional Firefighters Union L3762 E-Board 
 meeting.
URL:https://samuelslibrary.librarymarket.com/index.php/event/fauquier-coun
 ty-l3762-40864
END:VEVENT
END:VCALENDAR
