BEGIN:VCALENDAR
VERSION:2.0
PRODID:-//Library Market//iCal Export//EN
BEGIN:VEVENT
SUMMARY:Oakton Springs
UID:40862
DTSTAMP:20260420T151300Z
DTSTART:20261124T210000Z
DTEND:20261124T223000Z
LOCATION:330 East Criser Road, Front Royal, VA 22630, United States
ROOM: White Meeting Room B
DESCRIPTION:TBD
URL:https://samuelslibrary.librarymarket.com/index.php/event/oakton-spring
 s-40862
END:VEVENT
END:VCALENDAR
