BEGIN:VCALENDAR
VERSION:2.0
PRODID:-//Library Market//iCal Export//EN
BEGIN:VEVENT
SUMMARY:Tutoring
UID:40844
DTSTAMP:20260423T140300Z
DTSTART:20260416T203000Z
DTEND:20260416T213000Z
LOCATION:330 East Criser Road, Front Royal, VA 22630, United States
ROOM: Baxter-Bowling Conference Room
DESCRIPTION:
URL:https://samuelslibrary.librarymarket.com/index.php/event/tutoring-4084
 4
END:VEVENT
END:VCALENDAR
