BEGIN:VCALENDAR
VERSION:2.0
PRODID:-//Library Market//iCal Export//EN
BEGIN:VEVENT
SUMMARY:Academic Language Therapy
UID:40802
DTSTAMP:20260423T140400Z
DTSTART:20260413T183000Z
DTEND:20260413T200000Z
LOCATION:330 East Criser Road, Front Royal, VA 22630, United States
ROOM: Baxter-Bowling Conference Room
DESCRIPTION:
URL:https://samuelslibrary.librarymarket.com/index.php/event/academic-lang
 uage-therapy-40802
END:VEVENT
END:VCALENDAR
